BEGIN:VCALENDAR
VERSION:2.0
PRODID:icalendar-ruby
CALSCALE:GREGORIAN
X-WR-TIMEZONE:Europe/Helsinki
BEGIN:VTIMEZONE
TZID:Europe/Helsinki
BEGIN:DAYLIGHT
DTSTART:20260329T040000
TZOFFSETFROM:+0200
TZOFFSETTO:+0300
RRULE:FREQ=YEARLY;BYDAY=-1SU;BYMONTH=3
TZNAME:EEST
END:DAYLIGHT
BEGIN:STANDARD
DTSTART:20261025T030000
TZOFFSETFROM:+0300
TZOFFSETTO:+0200
RRULE:FREQ=YEARLY;BYDAY=-1SU;BYMONTH=10
TZNAME:EET
END:STANDARD
END:VTIMEZONE
BEGIN:VEVENT
DTSTAMP:20260421T190259
UID:bolero.myclub.fi-10414364
DTSTART;TZID=Europe/Helsinki:20260425T100000
DTEND;TZID=Europe/Helsinki:20260425T130000
DESCRIPTION:Lauantaina 25.4. pidämme Vappu teemaisen lastentanssin (5-12v.
 ) leiripäivän Boleron salilla Turussa klo 10.00-13.00 Ohjelmassa ohjattu
 ja tanssitunteja (soolo)\, pelejä ja leikkejä sekä vappu herkuttelua. S
 aa pukeutua! Ilmoittautuminen 22.4. mennessä\, jonka jälkeen kaikille il
 moittautuneille lähetetään linkki verkkomaksuun.  Hinta 20€ / hlö\n 
 Tervetuloa mukaan\, ohjaajina Linnéa Ahti ja Peppi Koskinen Leiri pidetä
 än Turussa Boleron salilla\, Uhrilähteenkatu 2. Kyselyt toiminnanjohtaja
 .bolero@gmail.com \n\n\nhttps://bolero.myclub.fi/flow/events/10414364
LOCATION:Bolero\, Uhrilähteenkatu 2\, 20250 Turku
SEQUENCE:0
SUMMARY:Tiiviskurssit\, leirit ja tapahtumat : Vappuleiripäivä lapsille (
 soolo)
URL;VALUE=URI:https://bolero.myclub.fi/flow/events/10414364
END:VEVENT
END:VCALENDAR
